{"text_format":"3","workbook":"xlsx","n_sheets":1,"sheets":["TDSheet"],"not_rendered":{"external_links":1},"read":"whole","date_system":"1900"}

{"sheet":"TDSheet","index":0,"n_rows":8,"n_cols":10,"rows_kept":8,"merged":[[0,1,0,3]]}
["Школа","МБОУ \"СОШ № 10\"",null,null,"Отд./корп",{"$nulls":3},"День","2023-02-07"]
[]
["Прием Пищи","Раздел",null,"Блюдо","Выход, г","Цена","Калорийность","Белки","Жиры","Углеводы"]
["Завтрак","закуска",null,{"$f":"[1]TDSheet!B23","v":"Десерт фруктовый Яблоко"},{"$f":"[1]TDSheet!C23","v":147},null,{"$f":"[1]TDSheet!G23","v":60.56},{"$f":"[1]TDSheet!D23","v":0.59},{"$f":"[1]TDSheet!E23","v":0.59},{"$f":"[1]TDSheet!F23","v":13.23}]
[null,"Второе блюдо",{"$f":"[1]TDSheet!A24","v":"7/10"},{"$f":"[1]TDSheet!B24","v":"Сыр голландск.(порц)"},{"$f":"[1]TDSheet!C24","v":15},null,{"$f":"[1]TDSheet!G24","v":55.11},{"$f":"[1]TDSheet!D24","v":4.42},{"$f":"[1]TDSheet!E24","v":{"v":4.16,"d":"4.2"}},{"$f":"[1]TDSheet!F24","v":{"v":0,"d":"0.00"}}]
[null,"гарнир",{"$f":"[1]TDSheet!A25","v":"ТТК-360н"},{"$f":"[1]TDSheet!B25","v":"Каша молочная мультизлаковая (вязкая) с маслом"},{"$f":"[1]TDSheet!C25","v":"180/5"},null,{"$f":"[1]TDSheet!G25","v":193.32},{"$f":"[1]TDSheet!D25","v":6.11},{"$f":"[1]TDSheet!E25","v":7.57},{"$f":"[1]TDSheet!F25","v":{"v":25.2,"d":"25.20"}}]
[null,"напиток",{"$f":"[1]TDSheet!A26","v":"ТТК №839к"},{"$f":"[1]TDSheet!B26","v":"Напиток из цикория с молоком с печ. сах в ассорт."},{"$f":"[1]TDSheet!C26","v":"200/17"},null,{"$f":"[1]TDSheet!G26","v":213.41},{"$f":"[1]TDSheet!D26","v":4.71},{"$f":"[1]TDSheet!E26","v":7.16},{"$f":"[1]TDSheet!F26","v":32.54}]
[null,"хлеб",null,{"$f":"[1]TDSheet!B27","v":"Хлеб \"Рябинушка\""},{"$f":"[1]TDSheet!C27","v":60},{"$f":"[1]TDSheet!$C$28","v":64.19},{"$f":"[1]TDSheet!G27","v":142.38},{"$f":"[1]TDSheet!D27","v":4.56},{"$f":"[1]TDSheet!E27","v":0.54},{"$f":"[1]TDSheet!F27","v":29.82}]