{"text_format":"3","workbook":"xlsx","n_sheets":1,"sheets":["TDSheet"],"not_rendered":{"external_links":2},"read":"whole","date_system":"1900"}

{"sheet":"TDSheet","index":0,"n_rows":8,"n_cols":10,"rows_kept":8,"merged":[[0,1,0,3]]}
["Школа","МБОУ \"СОШ № 10\"",null,null,"Отд./корп",{"$nulls":3},"День","2023-02-20"]
[]
["Прием Пищи","Раздел",{"$f":"[1]TDSheet!$A$10","v":"№ НД"},"Блюдо","Выход, г","Цена","Калорийность","Белки","Жиры","Углеводы"]
["Завтрак","закуска",{"$f":"[2]TDSheet!A15","v":"20/2010"},{"$f":"[2]TDSheet!B15","v":"Салат из белокочанной капусты"},{"$f":"[2]TDSheet!C15","v":60},null,{"$f":"[2]TDSheet!G15","v":53.71},{"$f":"[2]TDSheet!D15","v":0.93},{"$f":"[2]TDSheet!E15","v":3.05},{"$f":"[2]TDSheet!F15","v":5.63}]
[null,"Второе блюдо",{"$f":"[2]TDSheet!A16","v":"ТТК-738к"},{"$f":"[2]TDSheet!B16","v":"Котлеты \"Крестьянские\" с овощами (брокколи.)"},{"$f":"[2]TDSheet!C16","v":"75/15"},null,{"$f":"[2]TDSheet!G16","v":251.75},{"$f":"[2]TDSheet!D16","v":13.03},{"$f":"[2]TDSheet!E16","v":{"v":12.65,"d":"12.7"}},{"$f":"[2]TDSheet!F16","v":21.45}]
[null,"гарнир",{"$f":"[2]TDSheet!A17","v":"510/04"},{"$f":"[2]TDSheet!B17","v":"Каша гречневая вязкая"},{"$f":"[2]TDSheet!C17","v":150},null,{"$f":"[2]TDSheet!G17","v":{"v":160.8,"d":"160.80"}},{"$f":"[2]TDSheet!D17","v":4.65},{"$f":"[2]TDSheet!E17","v":4.75},{"$f":"[2]TDSheet!F17","v":24.86}]
[null,"напиток",{"$f":"[2]TDSheet!A18","v":"ТТК-268н"},{"$f":"[2]TDSheet!B18","v":"Компот \"Плодово-ягодный\" из изюма"},{"$f":"[2]TDSheet!C18","v":200},null,{"$f":"[2]TDSheet!G18","v":82.64},{"$f":"[2]TDSheet!D18","v":{"v":0,"d":"0.00"}},{"$f":"[2]TDSheet!E18","v":{"v":0,"d":"0.00"}},{"$f":"[2]TDSheet!F18","v":20.66}]
[null,"хлеб",null,{"$f":"[2]TDSheet!$B$19","v":"Хлеб \"Рябинушка\""},{"$f":"[2]TDSheet!C19","v":30},{"$f":"[2]TDSheet!$C$20","v":64.19},{"$f":"[2]TDSheet!G19","v":71.19},{"$f":"[2]TDSheet!D19","v":2.28},{"$f":"[2]TDSheet!E19","v":0.27},{"$f":"[2]TDSheet!F19","v":14.91}]