{"text_format":"3","workbook":"xlsx","n_sheets":3,"sheets":["1","Лист1","Лист2"],"not_rendered":{"external_links":1},"read":"whole","date_system":"1900"}

{"sheet":"1","index":0,"n_rows":11,"n_cols":10,"rows_kept":11,"merged":[[0,1,0,3]]}
["Школа","МБОУ \"Школа №150\"",null,null,"Отд./корп",{"$nulls":3},"День","2022-12-08"]
[]
["Прием пищи","Раздел","№ рец.","Блюдо","Выход, г","Цена","Калорийность","Белки","Жиры","Углеводы"]
[null,"закуска",null,{"$f":"'[1]1 неделя (без цен)'!B43","v":"Плоды свежие (яблоки)"},{"$f":"'[1]1 неделя (без цен)'!G43","v":100},null,{"$f":"'[1]1 неделя (без цен)'!L43","v":47},{"$f":"'[1]1 неделя (без цен)'!I43","v":{"v":0.4,"d":"0.40"}},{"$f":"'[1]1 неделя (без цен)'!J43","v":{"v":0.4,"d":"0.40"}},{"$f":"'[1]1 неделя (без цен)'!K43","v":{"v":9.8,"d":"9.80"}}]
[null,"овощи",null,{"$f":"'[1]1 неделя (без цен)'!B44","v":"Свекла отварная (дольками) с маслом"},{"$f":"'[1]1 неделя (без цен)'!G44","v":{"v":60,"d":"60.00"}},null,{"$f":"'[1]1 неделя (без цен)'!L44","v":56},{"$f":"'[1]1 неделя (без цен)'!I44","v":0.85},{"$f":"'[1]1 неделя (без цен)'!J44","v":3.65},{"$f":"'[1]1 неделя (без цен)'!K44","v":5.02}]
[null,"гор. блюдо",null,{"$f":"'[1]1 неделя (без цен)'!B45","v":"Гуляш из птицы"},{"$f":"'[1]1 неделя (без цен)'!G45","v":"50/50"},null,{"$f":"'[1]1 неделя (без цен)'!L45","v":117},{"$f":"'[1]1 неделя (без цен)'!I45","v":8},{"$f":"'[1]1 неделя (без цен)'!J45","v":8.6},{"$f":"'[1]1 неделя (без цен)'!K45","v":1.8}]
[null,"гарнир",null,{"$f":"'[1]1 неделя (без цен)'!B46","v":"Каша гречневая рассыпчатая"},{"$f":"'[1]1 неделя (без цен)'!G46","v":{"v":150,"d":"150.00"}},null,{"$f":"'[1]1 неделя (без цен)'!L46","v":242},{"$f":"'[1]1 неделя (без цен)'!I46","v":6.62},{"$f":"'[1]1 неделя (без цен)'!J46","v":5.39},{"$f":"'[1]1 неделя (без цен)'!K46","v":41.87}]
[null,"гор.напиток",null,{"$f":"'[1]1 неделя (без цен)'!B47","v":"Напиток из шиповника"},{"$f":"'[1]1 неделя (без цен)'!G47","v":200},null,{"$f":"'[1]1 неделя (без цен)'!L47","v":41},{"$f":"'[1]1 неделя (без цен)'!I47","v":0.1},{"$f":"'[1]1 неделя (без цен)'!J47","v":0},{"$f":"'[1]1 неделя (без цен)'!K47","v":10.18}]
[{"$nulls":3},{"$f":"'[1]1 неделя (без цен)'!B48","v":"Хлеб ржано - пшеничный"},{"$f":"'[1]1 неделя (без цен)'!G48","v":20},null,{"$f":"'[1]1 неделя (без цен)'!L48","v":44},{"$f":"'[1]1 неделя (без цен)'!I48","v":1},{"$f":"'[1]1 неделя (без цен)'!J48","v":0.2},{"$f":"'[1]1 неделя (без цен)'!K48","v":9}]
[null,"хлеб",null,{"$f":"'[1]1 неделя (без цен)'!B49","v":"Хлеб пшеничный "},{"$f":"'[1]1 неделя (без цен)'!G49","v":{"v":15,"d":"15.00"}},null,{"$f":"'[1]1 неделя (без цен)'!L49","v":35},{"$f":"'[1]1 неделя (без цен)'!I49","v":1.14},{"$f":"'[1]1 неделя (без цен)'!J49","v":0.12},{"$f":"'[1]1 неделя (без цен)'!K49","v":7.38}]
[{"$nulls":3},"Итого ",{"$f":"'[1]1 неделя (без цен)'!G50","v":645},{"v":62.1,"d":"62.10"},{"$f":"'[1]1 неделя (без цен)'!L50","v":582},{"$f":"'[1]1 неделя (без цен)'!I50","v":18.11},{"$f":"'[1]1 неделя (без цен)'!J50","v":18.36},{"$f":"'[1]1 неделя (без цен)'!K50","v":85.04999999999998}]

{"sheet":"Лист1","index":1,"n_rows":18,"n_cols":10,"rows_kept":18,"merged":[[0,1,0,3]]}
["Школа","МБОУ \"Лицей №177\"",null,null,"Отд./корп",{"$nulls":3},"День","2 сентября 2021 г."]
[]
["Прием пищи","Раздел","№ рец.","Блюдо","Выход, г","Цена","Калорийность","Белки","Жиры","Углеводы"]
["Завтрак","Овощи","№ 20/2015г","Салат из свежих огурцов",80,null,52,0.53,{"v":4.871,"d":"4.87"},1.44]
[null,"гор.блюдо","ТТК 2019 г","Жаркое из птицы  (грудки куриные)","50/150",null,322,{"v":16.2,"d":"16.20"},15.08,33.97]
[null,"гор.напиток","№ 342/2015 г","Компот из свежих плодов (яблоки)",200,null,115,0.14,0.16,27.87]
[null,"хлеб",null,"Хлеб ржано-пшеничный",20,null,44,1,0.2,9]
[null,"хлеб",null,"Хлеб пшеничный",30,null,71,2.28,0.24,14.76]
[{"$nulls":5},53.41,604,20.15,20.55,87.04]
[]
[]
["Обед","закуска"]
[null,"1 блюдо"]
[null,"2 блюдо"]
[null,"гарнир"]
[null,"сладкое"]
[null,"хлеб бел."]
[null,"хлеб черн."]

{"sheet":"Лист2","index":2,"n_rows":18,"n_cols":10,"rows_kept":18,"merged":[[0,1,0,3]]}
["Школа","МБОУ \"Лицей №177\"",null,null,"Отд./корп",{"$nulls":3},"День","2 сентября 2021 г."]
[]
["Прием пищи","Раздел","№ рец.","Блюдо","Выход, г","Цена","Калорийность","Белки","Жиры","Углеводы"]
["Завтрак","Овощи","№ 20/2015г","Салат из свежих огурцов",80,null,52,0.53,{"v":4.871,"d":"4.87"},1.44]
[null,"гор.блюдо","ТТК 2019 г","Жаркое из птицы  (грудки куриные)","50/150",null,322,{"v":16.2,"d":"16.20"},15.08,33.97]
[null,"гор.напиток","№ 342/2015 г","Компот из свежих плодов (яблоки)",200,null,115,0.14,0.16,27.87]
[null,"хлеб",null,"Хлеб ржано-пшеничный",20,null,44,1,0.2,9]
[null,"хлеб",null,"Хлеб пшеничный",30,null,71,2.28,0.24,14.76]
[{"$nulls":5},53.41,604,20.15,20.55,87.04]
[]
[]
["Обед","закуска"]
[null,"1 блюдо"]
[null,"2 блюдо"]
[null,"гарнир"]
[null,"сладкое"]
[null,"хлеб бел."]
[null,"хлеб черн."]