{"text_format":"3","workbook":"xlsx","n_sheets":3,"sheets":["1","Лист1","Лист2"],"not_rendered":{"external_links":1},"read":"whole","date_system":"1900"}

{"sheet":"1","index":0,"n_rows":11,"n_cols":10,"rows_kept":11,"merged":[[0,1,0,3]]}
["Школа","МБОУ \"Школа №150\"",null,null,"Отд./корп",{"$nulls":3},"День","2022-12-20"]
[]
["Прием пищи","Раздел","№ рец.","Блюдо","Выход, г","Цена","Калорийность","Белки","Жиры","Углеводы"]
[]
[null,"овощи",null,{"$f":"'[1]1 неделя (без цен)'!B26","v":"Плоды свежие (яблоки)"},{"$f":"'[1]1 неделя (без цен)'!G26","v":{"v":100,"d":"100.00"}},null,{"$f":"'[1]1 неделя (без цен)'!L26","v":47},{"$f":"'[1]1 неделя (без цен)'!I26","v":0.4},{"$f":"'[1]1 неделя (без цен)'!J26","v":0.4},{"$f":"'[1]1 неделя (без цен)'!K26","v":9.8}]
[null,"гор. блюдо",null,{"$f":"'[1]1 неделя (без цен)'!B27","v":"Блинчики со сгущенным молоком"},{"$f":"'[1]1 неделя (без цен)'!G27","v":"45/10"},null,{"$f":"'[1]1 неделя (без цен)'!L27","v":114},{"$f":"'[1]1 неделя (без цен)'!I27","v":3.19},{"$f":"'[1]1 неделя (без цен)'!J27","v":2.52},{"$f":"'[1]1 неделя (без цен)'!K27","v":19.5}]
[null,"гарнир",null,{"$f":"'[1]1 неделя (без цен)'!B28","v":"Жаркое из птицы "},{"$f":"'[1]1 неделя (без цен)'!G28","v":"40/140"},null,{"$f":"'[1]1 неделя (без цен)'!L28","v":250},{"$f":"'[1]1 неделя (без цен)'!I28","v":11.77},{"$f":"'[1]1 неделя (без цен)'!J28","v":12.05},{"$f":"'[1]1 неделя (без цен)'!K28","v":22.53}]
[null,"гор.напиток",null,{"$f":"'[1]1 неделя (без цен)'!B29","v":"Компот из замороженной компотной смеси"},{"$f":"'[1]1 неделя (без цен)'!G29","v":200},null,{"$f":"'[1]1 неделя (без цен)'!L29","v":46},{"$f":"'[1]1 неделя (без цен)'!I29","v":0.13},{"$f":"'[1]1 неделя (без цен)'!J29","v":0.02},{"$f":"'[1]1 неделя (без цен)'!K29","v":11.15}]
[{"$nulls":3},{"$f":"'[1]1 неделя (без цен)'!B30","v":"Хлеб ржано - пшеничный"},{"$f":"'[1]1 неделя (без цен)'!G30","v":20},null,{"$f":"'[1]1 неделя (без цен)'!L30","v":44},{"$f":"'[1]1 неделя (без цен)'!I30","v":1},{"$f":"'[1]1 неделя (без цен)'!J30","v":0.2},{"$f":"'[1]1 неделя (без цен)'!K30","v":9}]
[null,"хлеб",null,{"$f":"'[1]1 неделя (без цен)'!B31","v":"Хлеб пшеничный "},{"$f":"'[1]1 неделя (без цен)'!G31","v":{"v":15,"d":"15.00"}},null,{"$f":"'[1]1 неделя (без цен)'!L31","v":35},{"$f":"'[1]1 неделя (без цен)'!I31","v":1.14},{"$f":"'[1]1 неделя (без цен)'!J31","v":0.12},{"$f":"'[1]1 неделя (без цен)'!K31","v":7.38}]
[{"$nulls":3},"Итого ",{"$f":"'[1]1 неделя (без цен)'!G32","v":570},{"$f":"'[1]1 неделя (без цен)'!$H$32","v":{"v":62.1,"d":"62.10"}},{"$f":"'[1]1 неделя (без цен)'!L32","v":536},{"$f":"'[1]1 неделя (без цен)'!I32","v":17.630000000000003},{"$f":"'[1]1 неделя (без цен)'!J32","v":15.309999999999999},{"$f":"'[1]1 неделя (без цен)'!K32","v":79.35999999999999}]

{"sheet":"Лист1","index":1,"n_rows":18,"n_cols":10,"rows_kept":18,"merged":[[0,1,0,3]]}
["Школа","МБОУ \"Лицей №177\"",null,null,"Отд./корп",{"$nulls":3},"День","2 сентября 2021 г."]
[]
["Прием пищи","Раздел","№ рец.","Блюдо","Выход, г","Цена","Калорийность","Белки","Жиры","Углеводы"]
["Завтрак","Овощи","№ 20/2015г","Салат из свежих огурцов",80,null,52,0.53,{"v":4.871,"d":"4.87"},1.44]
[null,"гор.блюдо","ТТК 2019 г","Жаркое из птицы  (грудки куриные)","50/150",null,322,{"v":16.2,"d":"16.20"},15.08,33.97]
[null,"гор.напиток","№ 342/2015 г","Компот из свежих плодов (яблоки)",200,null,115,0.14,0.16,27.87]
[null,"хлеб",null,"Хлеб ржано-пшеничный",20,null,44,1,0.2,9]
[null,"хлеб",null,"Хлеб пшеничный",30,null,71,2.28,0.24,14.76]
[{"$nulls":5},53.41,604,20.15,20.55,87.04]
[]
[]
["Обед","закуска"]
[null,"1 блюдо"]
[null,"2 блюдо"]
[null,"гарнир"]
[null,"сладкое"]
[null,"хлеб бел."]
[null,"хлеб черн."]

{"sheet":"Лист2","index":2,"n_rows":18,"n_cols":10,"rows_kept":18,"merged":[[0,1,0,3]]}
["Школа","МБОУ \"Лицей №177\"",null,null,"Отд./корп",{"$nulls":3},"День","2 сентября 2021 г."]
[]
["Прием пищи","Раздел","№ рец.","Блюдо","Выход, г","Цена","Калорийность","Белки","Жиры","Углеводы"]
["Завтрак","Овощи","№ 20/2015г","Салат из свежих огурцов",80,null,52,0.53,{"v":4.871,"d":"4.87"},1.44]
[null,"гор.блюдо","ТТК 2019 г","Жаркое из птицы  (грудки куриные)","50/150",null,322,{"v":16.2,"d":"16.20"},15.08,33.97]
[null,"гор.напиток","№ 342/2015 г","Компот из свежих плодов (яблоки)",200,null,115,0.14,0.16,27.87]
[null,"хлеб",null,"Хлеб ржано-пшеничный",20,null,44,1,0.2,9]
[null,"хлеб",null,"Хлеб пшеничный",30,null,71,2.28,0.24,14.76]
[{"$nulls":5},53.41,604,20.15,20.55,87.04]
[]
[]
["Обед","закуска"]
[null,"1 блюдо"]
[null,"2 блюдо"]
[null,"гарнир"]
[null,"сладкое"]
[null,"хлеб бел."]
[null,"хлеб черн."]