{"text_format":"3","workbook":"xlsx","n_sheets":1,"sheets":["1"],"not_rendered":{"external_links":1},"read":"whole","date_system":"1900"}

{"sheet":"1","index":0,"n_rows":19,"n_cols":10,"rows_kept":19,"merged":[[0,1,0,3]]}
["Школа","МБОУ \"Лицей №188\" г. Казани",null,null,"Отд./корп",{"$nulls":3},"День","2023-09-11"]
[]
["Прием пищи","Раздел","№ рец.","Блюдо","Выход, г","Цена","Калорийность","Белки","Жиры","Углеводы"]
["Завтрак",{"$f":"'[1]1-2, 11-16, 25-30 сент.'!B4","v":"гор.блюдо"},{"$f":"'[1]1-2, 11-16, 25-30 сент.'!C4","v":"ТТК июль 2023 г"},{"$f":"'[1]1-2, 11-16, 25-30 сент.'!D4","v":"Котлеты \"Столичные\""},{"$f":"'[1]1-2, 11-16, 25-30 сент.'!E4","v":90},null,{"$f":"'[1]1-2, 11-16, 25-30 сент.'!G4","v":{"v":82.5,"d":"83"}},{"$f":"'[1]1-2, 11-16, 25-30 сент.'!H4","v":{"v":8.1,"d":"8.10"}},{"$f":"'[1]1-2, 11-16, 25-30 сент.'!I4","v":4.05},{"$f":"'[1]1-2, 11-16, 25-30 сент.'!J4","v":{"v":3.4,"d":"3.40"}}]
[null,{"$f":"'[1]1-2, 11-16, 25-30 сент.'!B5","v":"гор.блюдо"},{"$f":"'[1]1-2, 11-16, 25-30 сент.'!C5","v":"№ 302/2015, Дели"},{"$f":"'[1]1-2, 11-16, 25-30 сент.'!D5","v":"Каша гречневая рассыпчатая"},{"$f":"'[1]1-2, 11-16, 25-30 сент.'!E5","v":155},null,{"$f":"'[1]1-2, 11-16, 25-30 сент.'!G5","v":276},{"$f":"'[1]1-2, 11-16, 25-30 сент.'!H5","v":6.66},{"$f":"'[1]1-2, 11-16, 25-30 сент.'!I5","v":9.02},{"$f":"'[1]1-2, 11-16, 25-30 сент.'!J5","v":41.91}]
[null,{"$f":"'[1]1-2, 11-16, 25-30 сент.'!B6","v":"гор.напиток"},{"$f":"'[1]1-2, 11-16, 25-30 сент.'!C6","v":"ТТК"},{"$f":"'[1]1-2, 11-16, 25-30 сент.'!D6","v":"Напиток из замороженной черной смородины"},{"$f":"'[1]1-2, 11-16, 25-30 сент.'!E6","v":180},null,{"$f":"'[1]1-2, 11-16, 25-30 сент.'!G6","v":36},{"$f":"'[1]1-2, 11-16, 25-30 сент.'!H6","v":0.08},{"$f":"'[1]1-2, 11-16, 25-30 сент.'!I6","v":0.03},{"$f":"'[1]1-2, 11-16, 25-30 сент.'!J6","v":8.49}]
[null,{"$f":"'[1]1-2, 11-16, 25-30 сент.'!B7","v":"закуска"},{"$f":"'[1]1-2, 11-16, 25-30 сент.'!C7","v":"ТТК 2023 г"},{"$f":"'[1]1-2, 11-16, 25-30 сент.'!D7","v":"Салат-бар (Морковь свежая порциями, капуста белокач., кукуруза конс., сухарики, масло раст.)"},{"$f":"'[1]1-2, 11-16, 25-30 сент.'!E7","v":60},null,{"$f":"'[1]1-2, 11-16, 25-30 сент.'!G7","v":94},{"$f":"'[1]1-2, 11-16, 25-30 сент.'!H7","v":{"v":1.56,"d":"2"}},{"$f":"'[1]1-2, 11-16, 25-30 сент.'!I7","v":{"v":6.16,"d":"6"}},{"$f":"'[1]1-2, 11-16, 25-30 сент.'!J7","v":{"v":7.78,"d":"8"}}]
[null,{"$f":"'[1]1-2, 11-16, 25-30 сент.'!B8","v":"хлеб"},{"$f":"'[1]1-2, 11-16, 25-30 сент.'!C8","v":"ТТК"},{"$f":"'[1]1-2, 11-16, 25-30 сент.'!D8","v":"Хлебная корзина (хлеб пш., хлеб рж.-пш.)"},{"$f":"'[1]1-2, 11-16, 25-30 сент.'!E8","v":40},null,{"$f":"'[1]1-2, 11-16, 25-30 сент.'!G8","v":91},{"$f":"'[1]1-2, 11-16, 25-30 сент.'!H8","v":2.52},{"$f":"'[1]1-2, 11-16, 25-30 сент.'!I8","v":0.36},{"$f":"'[1]1-2, 11-16, 25-30 сент.'!J8","v":18.84}]
["ИТОГО",{"$nulls":3},525,null,{"$f":"'[1]1-2, 11-16, 25-30 сент.'!G9","v":580},{"$f":"'[1]1-2, 11-16, 25-30 сент.'!H9","v":{"v":18.919999999999998,"d":"18.92"}},{"$f":"'[1]1-2, 11-16, 25-30 сент.'!I9","v":{"v":19.619999999999997,"d":"19.62"}},{"$f":"'[1]1-2, 11-16, 25-30 сент.'!J9","v":80.42}]
["Завтрак 2","фрукты"]
[]
[]
["Обед","закуска"]
[null,"1 блюдо"]
[null,"2 блюдо"]
[null,"гарнир"]
[null,"сладкое"]
[null,"хлеб бел."]
[null,"хлеб черн."]