{"text_format":"3","workbook":"xlsx","n_sheets":1,"sheets":["1"],"not_rendered":{"external_links":1},"read":"whole","date_system":"1900"}

{"sheet":"1","index":0,"n_rows":19,"n_cols":10,"rows_kept":19,"merged":[[0,1,0,3]]}
["Школа","МБОУ \"Лицей №188\" г. Казани",null,null,"Отд./корп",{"$nulls":3},"День","2023-09-19"]
[]
["Прием пищи","Раздел","№ рец.","Блюдо","Выход, г","Цена","Калорийность","Белки","Жиры","Углеводы"]
["Завтрак",{"$f":"'[1]4-9, 18-23 сент.'!B11","v":"гор.блюдо"},{"$f":"'[1]4-9, 18-23 сент.'!C11","v":"ТТК 2022 г"},{"$f":"'[1]4-9, 18-23 сент.'!D11","v":"Котлеты \"Аппетитные\""},{"$f":"'[1]4-9, 18-23 сент.'!E11","v":90},null,{"$f":"'[1]4-9, 18-23 сент.'!G11","v":158},{"$f":"'[1]4-9, 18-23 сент.'!H11","v":{"v":11.2,"d":"11.20"}},{"$f":"'[1]4-9, 18-23 сент.'!I11","v":4.45},{"$f":"'[1]4-9, 18-23 сент.'!J11","v":{"v":18.5,"d":"18.50"}}]
[null,{"$f":"'[1]4-9, 18-23 сент.'!B12","v":"гор.блюдо"},{"$f":"'[1]4-9, 18-23 сент.'!C12","v":"№312/2015 г"},{"$f":"'[1]4-9, 18-23 сент.'!D12","v":"Пюре картофельное"},{"$f":"'[1]4-9, 18-23 сент.'!E12","v":150},null,{"$f":"'[1]4-9, 18-23 сент.'!G12","v":169},{"$f":"'[1]4-9, 18-23 сент.'!H12","v":3.28},{"$f":"'[1]4-9, 18-23 сент.'!I12","v":7.28},{"$f":"'[1]4-9, 18-23 сент.'!J12","v":{"v":22,"d":"22.00"}}]
[null,{"$f":"'[1]4-9, 18-23 сент.'!B13","v":"гор.напиток"},{"$f":"'[1]4-9, 18-23 сент.'!C13","v":"ТТК 2022 г"},{"$f":"'[1]4-9, 18-23 сент.'!D13","v":"Компот из замороженной компотной смеси"},{"$f":"'[1]4-9, 18-23 сент.'!E13","v":180},null,{"$f":"'[1]4-9, 18-23 сент.'!G13","v":36},{"$f":"'[1]4-9, 18-23 сент.'!H13","v":0.09},{"$f":"'[1]4-9, 18-23 сент.'!I13","v":0.02},{"$f":"'[1]4-9, 18-23 сент.'!J13","v":8.69}]
[null,{"$f":"'[1]4-9, 18-23 сент.'!B14","v":"закуска"},{"$f":"'[1]4-9, 18-23 сент.'!C14","v":"№ 532/2013г, Самара"},{"$f":"'[1]4-9, 18-23 сент.'!D14","v":"Салат-бар (Огурцы свежая порциями, помидоры, фасоль конс., сухарики, масло раст.)"},{"$f":"'[1]4-9, 18-23 сент.'!E14","v":60},null,{"$f":"'[1]4-9, 18-23 сент.'!G14","v":90},{"$f":"'[1]4-9, 18-23 сент.'!H14","v":1.62},{"$f":"'[1]4-9, 18-23 сент.'!I14","v":{"v":6.1,"d":"6.10"}},{"$f":"'[1]4-9, 18-23 сент.'!J14","v":6.92}]
[null,{"$f":"'[1]4-9, 18-23 сент.'!B15","v":"хлеб"},{"$f":"'[1]4-9, 18-23 сент.'!C15","v":"ТТК"},{"$f":"'[1]4-9, 18-23 сент.'!D15","v":"Хлебная корзина (хлеб пш., хлеб рж.-пш.)"},{"$f":"'[1]4-9, 18-23 сент.'!E15","v":40},null,{"$f":"'[1]4-9, 18-23 сент.'!G15","v":91},{"$f":"'[1]4-9, 18-23 сент.'!H15","v":2.52},{"$f":"'[1]4-9, 18-23 сент.'!I15","v":0.36},{"$f":"'[1]4-9, 18-23 сент.'!J15","v":18.84}]
["ИТОГО",{"$nulls":3},520,null,{"$f":"'[1]4-9, 18-23 сент.'!G16","v":544},{"$f":"'[1]4-9, 18-23 сент.'!H16","v":{"v":18.709999999999997,"d":"18.71"}},{"$f":"'[1]4-9, 18-23 сент.'!I16","v":18.21},{"$f":"'[1]4-9, 18-23 сент.'!J16","v":74.95}]
["Завтрак 2","фрукты"]
[]
[]
["Обед","закуска"]
[null,"1 блюдо"]
[null,"2 блюдо"]
[null,"гарнир"]
[null,"сладкое"]
[null,"хлеб бел."]
[null,"хлеб черн."]