{"text_format":"3","workbook":"xlsx","n_sheets":1,"sheets":["1"],"not_rendered":{"external_links":1},"read":"whole","date_system":"1900"}

{"sheet":"1","index":0,"n_rows":12,"n_cols":10,"rows_kept":12,"merged":[[0,1,0,3]]}
["Школа","МБОУ Лицей №188",null,null,"Отд./корп",{"$nulls":3},"День","17.02.2023"]
[]
["Прием пищи","Раздел","№ рец.","Блюдо","Выход, г","Цена","Калорийность","Белки","Жиры","Углеводы"]
["Завтрак",{"$f":"'[1]13-18 фев.'!B37","v":"гор.блюдо"},{"$f":"'[1]13-18 фев.'!C37","v":"ТТК 2022 г"},{"$f":"'[1]13-18 фев.'!D37","v":"Картофель тушеный с фаршем"},{"$f":"'[1]13-18 фев.'!E37","v":180},null,{"$f":"'[1]13-18 фев.'!G37","v":{"v":290,"d":"290.00"}},{"$f":"'[1]13-18 фев.'!H37","v":13.38},{"$f":"'[1]13-18 фев.'!I37","v":15.24},{"$f":"'[1]13-18 фев.'!J37","v":24.71}]
[null,{"$f":"'[1]13-18 фев.'!B38","v":"гор.напиток"},{"$f":"'[1]13-18 фев.'!C38","v":"ТТК 2021г"},{"$f":"'[1]13-18 фев.'!D38","v":"Чай с сахаром, лимолном"},{"$f":"'[1]13-18 фев.'!E38","v":213},null,{"$f":"'[1]13-18 фев.'!G38","v":{"v":34,"d":"34.00"}},{"$f":"'[1]13-18 фев.'!H38","v":0.06},{"$f":"'[1]13-18 фев.'!I38","v":0.01},{"$f":"'[1]13-18 фев.'!J38","v":8.13}]
[null,{"$f":"'[1]13-18 фев.'!B39","v":"хлеб"},null,{"$f":"'[1]13-18 фев.'!D39","v":"Хлеб ржано-пшеничный"},{"$f":"'[1]13-18 фев.'!E39","v":20},null,{"$f":"'[1]13-18 фев.'!G39","v":{"v":44,"d":"44.00"}},{"$f":"'[1]13-18 фев.'!H39","v":{"v":1,"d":"1.00"}},{"$f":"'[1]13-18 фев.'!I39","v":{"v":0.2,"d":"0.20"}},{"$f":"'[1]13-18 фев.'!J39","v":{"v":9,"d":"9.00"}}]
[null,{"$f":"'[1]13-18 фев.'!B40","v":"хлеб"},null,{"$f":"'[1]13-18 фев.'!D40","v":"Хлеб пшеничный"},{"$f":"'[1]13-18 фев.'!E40","v":15},null,{"$f":"'[1]13-18 фев.'!G40","v":{"v":35,"d":"35.00"}},{"$f":"'[1]13-18 фев.'!H40","v":1.14},{"$f":"'[1]13-18 фев.'!I40","v":0.12},{"$f":"'[1]13-18 фев.'!J40","v":7.38}]
[null,{"$f":"'[1]13-18 фев.'!B41","v":"закуска"},{"$f":"'[1]13-18 фев.'!C41","v":"ТТК"},{"$f":"'[1]13-18 фев.'!D41","v":"Салат из квашенной капусты (без лука)"},{"$f":"'[1]13-18 фев.'!E41","v":60},null,{"$f":"'[1]13-18 фев.'!G41","v":{"v":51,"d":"51.00"}},{"$f":"'[1]13-18 фев.'!H41","v":0.98},{"$f":"'[1]13-18 фев.'!I41","v":3.05},{"$f":"'[1]13-18 фев.'!J41","v":4.63}]
[null,{"$f":"'[1]13-18 фев.'!B42","v":"печенье"},null,{"$f":"'[1]13-18 фев.'!D42","v":"Печенье "},{"$f":"'[1]13-18 фев.'!E42","v":15},null,{"$f":"'[1]13-18 фев.'!G42","v":{"v":67,"d":"67.00"}},{"$f":"'[1]13-18 фев.'!H42","v":1.03},{"$f":"'[1]13-18 фев.'!I42","v":2.07},{"$f":"'[1]13-18 фев.'!J42","v":11.11}]
[]
[]
["ИТОГО",{"$nulls":3},{"$f":"'[1]13-18 фев.'!E43","v":503},{"$f":"'[1]13-18 фев.'!F43","v":{"v":62.1,"d":"62.10"}},{"$f":"'[1]13-18 фев.'!G43","v":521},{"$f":"'[1]13-18 фев.'!H43","v":{"v":17.590000000000003,"d":"17.59"}},{"$f":"'[1]13-18 фев.'!I43","v":{"v":20.689999999999998,"d":"20.69"}},{"$f":"'[1]13-18 фев.'!J43","v":{"v":64.96000000000001,"d":"64.96"}}]