{"text_format":"3","workbook":"xlsx","n_sheets":1,"sheets":["1"],"not_rendered":{"external_links":1},"read":"whole","date_system":"1900"}

{"sheet":"1","index":0,"n_rows":12,"n_cols":10,"rows_kept":12,"merged":[[0,1,0,3]]}
["Школа","МБОУ Лицей №188",null,null,"Отд./корп",{"$nulls":3},"День","21.02.2023"]
[]
["Прием пищи","Раздел","№ рец.","Блюдо","Выход, г","Цена","Калорийность","Белки","Жиры","Углеводы"]
["Завтрак",{"$f":"'[1]6-11, 20-25 фев.'!B12","v":"гор.блюдо"},{"$f":"'[1]6-11, 20-25 фев.'!C12","v":"ТТК 2021"},{"$f":"'[1]6-11, 20-25 фев.'!D12","v":"Жаркое из птицы"},{"$f":"'[1]6-11, 20-25 фев.'!E12","v":190},null,{"$f":"'[1]6-11, 20-25 фев.'!G12","v":{"v":265,"d":"265.00"}},{"$f":"'[1]6-11, 20-25 фев.'!H12","v":13.52},{"$f":"'[1]6-11, 20-25 фев.'!I12","v":13.68},{"$f":"'[1]6-11, 20-25 фев.'!J12","v":21.91}]
[null,{"$f":"'[1]6-11, 20-25 фев.'!B13","v":"гор.напиток"},{"$f":"'[1]6-11, 20-25 фев.'!C13","v":"ТТК 2021г"},{"$f":"'[1]6-11, 20-25 фев.'!D13","v":"Компот из замороженной компотной смеси"},{"$f":"'[1]6-11, 20-25 фев.'!E13","v":200},null,{"$f":"'[1]6-11, 20-25 фев.'!G13","v":{"v":46,"d":"46.00"}},{"$f":"'[1]6-11, 20-25 фев.'!H13","v":0.13},{"$f":"'[1]6-11, 20-25 фев.'!I13","v":0.02},{"$f":"'[1]6-11, 20-25 фев.'!J13","v":11.15}]
[null,{"$f":"'[1]6-11, 20-25 фев.'!B14","v":"хлеб"},null,{"$f":"'[1]6-11, 20-25 фев.'!D14","v":"Хлеб ржано-пшеничный "},{"$f":"'[1]6-11, 20-25 фев.'!E14","v":20},null,{"$f":"'[1]6-11, 20-25 фев.'!G14","v":{"v":44,"d":"44.00"}},{"$f":"'[1]6-11, 20-25 фев.'!H14","v":{"v":1,"d":"1.00"}},{"$f":"'[1]6-11, 20-25 фев.'!I14","v":{"v":0.2,"d":"0.20"}},{"$f":"'[1]6-11, 20-25 фев.'!J14","v":{"v":9,"d":"9.00"}}]
[null,{"$f":"'[1]6-11, 20-25 фев.'!B15","v":"хлеб"},null,{"$f":"'[1]6-11, 20-25 фев.'!D15","v":"Хлеб пшеничный"},{"$f":"'[1]6-11, 20-25 фев.'!E15","v":15},null,{"$f":"'[1]6-11, 20-25 фев.'!G15","v":{"v":35,"d":"35.00"}},{"$f":"'[1]6-11, 20-25 фев.'!H15","v":1.14},{"$f":"'[1]6-11, 20-25 фев.'!I15","v":0.12},{"$f":"'[1]6-11, 20-25 фев.'!J15","v":7.38}]
[null,{"$f":"'[1]6-11, 20-25 фев.'!B16","v":"закуска"},{"$f":"'[1]6-11, 20-25 фев.'!C16","v":"№ 47/2015 г"},{"$f":"'[1]6-11, 20-25 фев.'!D16","v":"Салат из квашенной капусты (без лука) "},{"$f":"'[1]6-11, 20-25 фев.'!E16","v":60},null,{"$f":"'[1]6-11, 20-25 фев.'!G16","v":{"v":51,"d":"51.00"}},{"$f":"'[1]6-11, 20-25 фев.'!H16","v":0.98},{"$f":"'[1]6-11, 20-25 фев.'!I16","v":3.05},{"$f":"'[1]6-11, 20-25 фев.'!J16","v":4.63}]
[null,{"$f":"'[1]6-11, 20-25 фев.'!B17","v":"фрукт"},{"$f":"'[1]6-11, 20-25 фев.'!C17","v":"338/2015"},{"$f":"'[1]6-11, 20-25 фев.'!D17","v":"Плоды свежие (яблоки)"},{"$f":"'[1]6-11, 20-25 фев.'!E17","v":100},null,{"$f":"'[1]6-11, 20-25 фев.'!G17","v":{"v":47,"d":"47.00"}},{"$f":"'[1]6-11, 20-25 фев.'!H17","v":{"v":0.4,"d":"0.40"}},{"$f":"'[1]6-11, 20-25 фев.'!I17","v":{"v":0.4,"d":"0.40"}},{"$f":"'[1]6-11, 20-25 фев.'!J17","v":{"v":9.8,"d":"9.80"}}]
[]
[]
["ИТОГО",{"$nulls":3},{"$f":"'[1]6-11, 20-25 фев.'!E18","v":585},{"$f":"'[1]6-11, 20-25 фев.'!F18","v":{"v":62.1,"d":"62.10"}},{"$f":"'[1]6-11, 20-25 фев.'!G18","v":488},{"$f":"'[1]6-11, 20-25 фев.'!H18","v":{"v":17.169999999999998,"d":"17.17"}},{"$f":"'[1]6-11, 20-25 фев.'!I18","v":{"v":17.469999999999995,"d":"17.47"}},{"$f":"'[1]6-11, 20-25 фев.'!J18","v":{"v":63.870000000000005,"d":"63.87"}}]