{"text_format":"3","workbook":"xlsx","n_sheets":1,"sheets":["1"],"not_rendered":{"external_links":1},"read":"whole","date_system":"1900"}

{"sheet":"1","index":0,"n_rows":12,"n_cols":10,"rows_kept":12,"merged":[[0,1,0,3]]}
["Школа","МБОУ Лицей №188 города Казани",null,null,"Отд./корп",{"$nulls":3},"День","7.03.2023"]
[]
["Прием пищи","Раздел","№ рец.","Блюдо","Выход, г","Цена","Калорийность","Белки","Жиры","Углеводы"]
["Завтрак",{"$f":"'[1]6-11.03, 20-25.03'!B13","v":"гор.блюдо"},{"$f":"'[1]6-11.03, 20-25.03'!C13","v":"ТТК 2021"},{"$f":"'[1]6-11.03, 20-25.03'!D13","v":"Жаркое из птицы"},{"$f":"'[1]6-11.03, 20-25.03'!E13","v":190},null,{"$f":"'[1]6-11.03, 20-25.03'!G13","v":{"v":265,"d":"265.00"}},{"$f":"'[1]6-11.03, 20-25.03'!H13","v":13.52},{"$f":"'[1]6-11.03, 20-25.03'!I13","v":13.68},{"$f":"'[1]6-11.03, 20-25.03'!J13","v":21.91}]
[null,{"$f":"'[1]6-11.03, 20-25.03'!B14","v":"гор.напиток"},{"$f":"'[1]6-11.03, 20-25.03'!C14","v":"ТТК 2021 г"},{"$f":"'[1]6-11.03, 20-25.03'!D14","v":"Чай без сахара "},{"$f":"'[1]6-11.03, 20-25.03'!E14","v":180},null,{"$f":"'[1]6-11.03, 20-25.03'!G14","v":{"v":0,"d":"0.00"}},{"$f":"'[1]6-11.03, 20-25.03'!H14","v":0.01},{"$f":"'[1]6-11.03, 20-25.03'!I14","v":{"v":0.005,"d":"0.01"}},{"$f":"'[1]6-11.03, 20-25.03'!J14","v":{"v":0.005,"d":"0.01"}}]
[null,{"$f":"'[1]6-11.03, 20-25.03'!B15","v":"хлеб"},null,{"$f":"'[1]6-11.03, 20-25.03'!D15","v":"Хлеб ржано-пшеничный "},{"$f":"'[1]6-11.03, 20-25.03'!E15","v":25},null,{"$f":"'[1]6-11.03, 20-25.03'!G15","v":{"v":55,"d":"55.00"}},{"$f":"'[1]6-11.03, 20-25.03'!H15","v":1.25},{"$f":"'[1]6-11.03, 20-25.03'!I15","v":0.25},{"$f":"'[1]6-11.03, 20-25.03'!J15","v":11.25}]
[null,{"$f":"'[1]6-11.03, 20-25.03'!B16","v":"фрукты"},{"$f":"'[1]6-11.03, 20-25.03'!C16","v":"№ 338/2015г"},{"$f":"'[1]6-11.03, 20-25.03'!D16","v":"Плоды свежие (яблоки)"},{"$f":"'[1]6-11.03, 20-25.03'!E16","v":100},null,{"$f":"'[1]6-11.03, 20-25.03'!G16","v":{"v":47,"d":"47.00"}},{"$f":"'[1]6-11.03, 20-25.03'!H16","v":{"v":0.4,"d":"0.40"}},{"$f":"'[1]6-11.03, 20-25.03'!I16","v":{"v":0.4,"d":"0.40"}},{"$f":"'[1]6-11.03, 20-25.03'!J16","v":{"v":9.8,"d":"9.80"}}]
[null,{"$f":"'[1]6-11.03, 20-25.03'!B17","v":"закуска"},{"$f":"'[1]6-11.03, 20-25.03'!C17","v":"№ 47/2015 г"},{"$f":"'[1]6-11.03, 20-25.03'!D17","v":"Салат из квашенной капусты "},{"$f":"'[1]6-11.03, 20-25.03'!E17","v":60},null,{"$f":"'[1]6-11.03, 20-25.03'!G17","v":{"v":51,"d":"51.00"}},{"$f":"'[1]6-11.03, 20-25.03'!H17","v":0.98},{"$f":"'[1]6-11.03, 20-25.03'!I17","v":3.05},{"$f":"'[1]6-11.03, 20-25.03'!J17","v":4.63}]
[null,{"$f":"'[1]6-11.03, 20-25.03'!B18","v":"печенье"},{"$f":"'[1]6-11.03, 20-25.03'!C18","v":"АКТ 2019"},{"$f":"'[1]6-11.03, 20-25.03'!D18","v":"Печенье весовое"},{"$f":"'[1]6-11.03, 20-25.03'!E18","v":30},null,{"$f":"'[1]6-11.03, 20-25.03'!G18","v":{"v":117,"d":"117.00"}},{"$f":"'[1]6-11.03, 20-25.03'!H18","v":2.07},{"$f":"'[1]6-11.03, 20-25.03'!I18","v":2.14},{"$f":"'[1]6-11.03, 20-25.03'!J18","v":22.23}]
[]
[]
["ИТОГО",{"$nulls":3},{"$f":"'[1]6-11.03, 20-25.03'!E20","v":585},{"$f":"'[1]6-11.03, 20-25.03'!F20","v":{"v":62.1,"d":"62.10"}},{"$f":"'[1]6-11.03, 20-25.03'!G20","v":535},{"$f":"'[1]6-11.03, 20-25.03'!H20","v":18.23},{"$f":"'[1]6-11.03, 20-25.03'!I20","v":{"v":19.525000000000002,"d":"19.53"}},{"$f":"'[1]6-11.03, 20-25.03'!J20","v":{"v":69.825,"d":"69.83"}}]