{"text_format":"3","workbook":"xlsx","n_sheets":1,"sheets":["1"],"not_rendered":{"external_links":1},"read":"whole","date_system":"1900"}

{"sheet":"1","index":0,"n_rows":12,"n_cols":10,"rows_kept":12,"merged":[[0,1,0,3]]}
["Школа","МБОУ Лицей №188 города Казани",null,null,"Отд./корп",{"$nulls":3},"День","18.03.2023"]
[]
["Прием пищи","Раздел","№ рец.","Блюдо","Выход, г","Цена","Калорийность","Белки","Жиры","Углеводы"]
["Завтрак",{"$f":"'[1]27.02-4.03,13-18.03,27.03-1.04'!B44","v":"гор.блюдо"},{"$f":"'[1]27.02-4.03,13-18.03,27.03-1.04'!C44","v":"№ 243/2015 г"},{"$f":"'[1]27.02-4.03,13-18.03,27.03-1.04'!D44","v":"Сосиски отварные"},{"$f":"'[1]27.02-4.03,13-18.03,27.03-1.04'!E44","v":100},null,{"$f":"'[1]27.02-4.03,13-18.03,27.03-1.04'!G44","v":{"v":144,"d":"144.00"}},{"$f":"'[1]27.02-4.03,13-18.03,27.03-1.04'!H44","v":{"v":9.4,"d":"9.40"}},{"$f":"'[1]27.02-4.03,13-18.03,27.03-1.04'!I44","v":{"v":11,"d":"11.00"}},{"$f":"'[1]27.02-4.03,13-18.03,27.03-1.04'!J44","v":{"v":1.8,"d":"1.80"}}]
[null,{"$f":"'[1]27.02-4.03,13-18.03,27.03-1.04'!B45","v":"гор.блюдо"},{"$f":"'[1]27.02-4.03,13-18.03,27.03-1.04'!C45","v":"№ 202/2015 г"},{"$f":"'[1]27.02-4.03,13-18.03,27.03-1.04'!D45","v":"Макаронные изделия отварные"},{"$f":"'[1]27.02-4.03,13-18.03,27.03-1.04'!E45","v":150},null,{"$f":"'[1]27.02-4.03,13-18.03,27.03-1.04'!G45","v":{"v":207,"d":"207.00"}},{"$f":"'[1]27.02-4.03,13-18.03,27.03-1.04'!H45","v":5.64},{"$f":"'[1]27.02-4.03,13-18.03,27.03-1.04'!I45","v":4.46},{"$f":"'[1]27.02-4.03,13-18.03,27.03-1.04'!J45","v":35.94}]
[null,{"$f":"'[1]27.02-4.03,13-18.03,27.03-1.04'!B46","v":"гор.напиток"},{"$f":"'[1]27.02-4.03,13-18.03,27.03-1.04'!C46","v":"ТТК 2021 г"},{"$f":"'[1]27.02-4.03,13-18.03,27.03-1.04'!D46","v":"Чай с сахаром"},{"$f":"'[1]27.02-4.03,13-18.03,27.03-1.04'!E46","v":187},null,{"$f":"'[1]27.02-4.03,13-18.03,27.03-1.04'!G46","v":{"v":29,"d":"29.00"}},{"$f":"'[1]27.02-4.03,13-18.03,27.03-1.04'!H46","v":0.02},{"$f":"'[1]27.02-4.03,13-18.03,27.03-1.04'!I46","v":0.01},{"$f":"'[1]27.02-4.03,13-18.03,27.03-1.04'!J46","v":7.19}]
[null,{"$f":"'[1]27.02-4.03,13-18.03,27.03-1.04'!B47","v":"хлеб"},null,{"$f":"'[1]27.02-4.03,13-18.03,27.03-1.04'!D47","v":"Хлеб ржано-пшеничный "},{"$f":"'[1]27.02-4.03,13-18.03,27.03-1.04'!E47","v":15},null,{"$f":"'[1]27.02-4.03,13-18.03,27.03-1.04'!G47","v":{"v":35,"d":"35.00"}},{"$f":"'[1]27.02-4.03,13-18.03,27.03-1.04'!H47","v":1.14},{"$f":"'[1]27.02-4.03,13-18.03,27.03-1.04'!I47","v":0.12},{"$f":"'[1]27.02-4.03,13-18.03,27.03-1.04'!J47","v":7.38}]
[null,{"$f":"'[1]27.02-4.03,13-18.03,27.03-1.04'!B48","v":"хлеб"},null,{"$f":"'[1]27.02-4.03,13-18.03,27.03-1.04'!D48","v":"Хлеб пшеничный"},{"$f":"'[1]27.02-4.03,13-18.03,27.03-1.04'!E48","v":15},null,{"$f":"'[1]27.02-4.03,13-18.03,27.03-1.04'!G48","v":{"v":33,"d":"33.00"}},{"$f":"'[1]27.02-4.03,13-18.03,27.03-1.04'!H48","v":0.75},{"$f":"'[1]27.02-4.03,13-18.03,27.03-1.04'!I48","v":0.15},{"$f":"'[1]27.02-4.03,13-18.03,27.03-1.04'!J48","v":6.75}]
[null,{"$f":"'[1]27.02-4.03,13-18.03,27.03-1.04'!B49","v":"фрукты"},{"$f":"'[1]27.02-4.03,13-18.03,27.03-1.04'!C49","v":"№ 338/2015 г"},{"$f":"'[1]27.02-4.03,13-18.03,27.03-1.04'!D49","v":"Плоды свежие (яблоки)"},{"$f":"'[1]27.02-4.03,13-18.03,27.03-1.04'!E49","v":100},null,{"$f":"'[1]27.02-4.03,13-18.03,27.03-1.04'!G49","v":{"v":47,"d":"47.00"}},{"$f":"'[1]27.02-4.03,13-18.03,27.03-1.04'!H49","v":{"v":0.4,"d":"0.40"}},{"$f":"'[1]27.02-4.03,13-18.03,27.03-1.04'!I49","v":{"v":0.4,"d":"0.40"}},{"$f":"'[1]27.02-4.03,13-18.03,27.03-1.04'!J49","v":{"v":9.8,"d":"9.80"}}]
[]
[]
["ИТОГО",{"$nulls":3},{"$f":"'[1]27.02-4.03,13-18.03,27.03-1.04'!E51","v":567},{"$f":"'[1]27.02-4.03,13-18.03,27.03-1.04'!F51","v":{"v":62.1,"d":"62.10"}},{"$f":"'[1]27.02-4.03,13-18.03,27.03-1.04'!G51","v":495},{"$f":"'[1]27.02-4.03,13-18.03,27.03-1.04'!H51","v":{"v":17.349999999999998,"d":"17.35"}},{"$f":"'[1]27.02-4.03,13-18.03,27.03-1.04'!I51","v":16.14},{"$f":"'[1]27.02-4.03,13-18.03,27.03-1.04'!J51","v":{"v":68.85999999999999,"d":"68.86"}}]