{"text_format":"3","workbook":"xlsx","n_sheets":1,"sheets":["1"],"not_rendered":{"external_links":1},"read":"whole","date_system":"1900"}

{"sheet":"1","index":0,"n_rows":12,"n_cols":10,"rows_kept":12,"merged":[[0,1,0,3]]}
["Школа","МБОУ Лицей №188 города Казани",null,null,"Отд./корп",{"$nulls":3},"День","16.05.2023"]
[]
["Прием пищи","Раздел","№ рец.","Блюдо","Выход, г","Цена","Калорийность","Белки","Жиры","Углеводы"]
["Завтрак",{"$f":"[1]Лист1!B11","v":"гор.блюдо"},{"$f":"[1]Лист1!C11","v":"ТТК 2022 г"},{"$f":"[1]Лист1!D11","v":"Грудки куриные (филе) по-французки"},{"$f":"[1]Лист1!E11","v":170},null,{"$f":"[1]Лист1!G11","v":{"v":363,"d":"363.00"}},{"$f":"[1]Лист1!H11","v":16.06},{"$f":"[1]Лист1!I11","v":{"v":17.2,"d":"17.20"}},{"$f":"[1]Лист1!J11","v":35.96}]
[null,{"$f":"[1]Лист1!B12","v":"гор.напиток"},{"$f":"[1]Лист1!C12","v":"ТТК 2021 г"},{"$f":"[1]Лист1!D12","v":"Чай с сахором, лимоном"},{"$f":"[1]Лист1!E12","v":192},null,{"$f":"[1]Лист1!G12","v":{"v":31,"d":"31.00"}},{"$f":"[1]Лист1!H12","v":0.06},{"$f":"[1]Лист1!I12","v":0.01},{"$f":"[1]Лист1!J12","v":7.34}]
[null,{"$f":"[1]Лист1!B13","v":"хлеб"},null,{"$f":"[1]Лист1!D13","v":"Хлеб ржано-пшеничный "},{"$f":"[1]Лист1!E13","v":20},null,{"$f":"[1]Лист1!G13","v":{"v":44,"d":"44.00"}},{"$f":"[1]Лист1!H13","v":{"v":1,"d":"1.00"}},{"$f":"[1]Лист1!I13","v":{"v":0.2,"d":"0.20"}},{"$f":"[1]Лист1!J13","v":{"v":9,"d":"9.00"}}]
[{"$nulls":3},{"$f":"[1]Лист1!D14","v":"Хлеб пшеничный"},{"$f":"[1]Лист1!E14","v":20},null,{"$f":"[1]Лист1!G14","v":{"v":47,"d":"47.00"}},{"$f":"[1]Лист1!H14","v":1.52},{"$f":"[1]Лист1!I14","v":0.16},{"$f":"[1]Лист1!J14","v":9.84}]
[null,null,{"$f":"[1]Лист1!C15","v":"70/2015"},{"$f":"[1]Лист1!D15","v":"Овощи натуральные соленые (огурцы)-доп.гарн"},{"$f":"[1]Лист1!E15","v":20},null,{"$f":"[1]Лист1!G15","v":{"v":5,"d":"5.00"}},{"$f":"[1]Лист1!H15","v":0.22},{"$f":"[1]Лист1!I15","v":0.04},{"$f":"[1]Лист1!J15","v":0.76}]
[null,{"$f":"[1]Лист1!B16","v":"фрукт "},{"$f":"[1]Лист1!C16","v":"№ 338/2015г"},{"$f":"[1]Лист1!D16","v":"Плоды свежие (яблоки)"},{"$f":"[1]Лист1!E16","v":100},null,{"$f":"[1]Лист1!G16","v":{"v":47,"d":"47.00"}},{"$f":"[1]Лист1!H16","v":{"v":0.4,"d":"0.40"}},{"$f":"[1]Лист1!I16","v":{"v":0.4,"d":"0.40"}},{"$f":"[1]Лист1!J16","v":{"v":9.8,"d":"9.80"}}]
[]
[]
["ИТОГО",{"$nulls":3},{"$f":"[1]Лист1!E17","v":522},{"$f":"[1]Лист1!F17","v":{"v":62.1,"d":"62.10"}},{"$f":"[1]Лист1!G17","v":537},{"$f":"[1]Лист1!H17","v":{"v":19.259999999999994,"d":"19.26"}},{"$f":"[1]Лист1!I17","v":{"v":18.009999999999998,"d":"18.01"}},{"$f":"[1]Лист1!J17","v":{"v":72.7,"d":"72.70"}}]