Workbook

Sheet 1
A1: Школа | B1: МБОУ Лицей №188 города Казани | E1: Отд./корп | I1: День | J1: 17.05.2023
A3: Прием пищи | B3: Раздел | C3: № рец. | D3: Блюдо | E3: Выход, г | F3: Цена | G3: Калорийность | H3: Белки | I3: Жиры | J3: Углеводы
A4: Завтрак | B4: =[1]Лист1!B18 -> гор.блюдо | C4: =[1]Лист1!C18 -> №360/2015г | D4: =[1]Лист1!D18 -> Гуляш из говядины | E4: =[1]Лист1!E18 -> 70 | G4: =[1]Лист1!G18 -> 134 | H4: =[1]Лист1!H18 -> 10.64 | I4: =[1]Лист1!I18 -> 8.37 | J4: =[1]Лист1!J18 -> 3.99
B5: =[1]Лист1!B19 -> гор.блюдо | C5: =[1]Лист1!C19 -> №304/2015г | D5: =[1]Лист1!D19 -> Рис отворной | E5: =[1]Лист1!E19 -> 150 | G5: =[1]Лист1!G19 -> 224 | H5: =[1]Лист1!H19 -> 3.83 | I5: =[1]Лист1!I19 -> 5.43 | J5: =[1]Лист1!J19 -> 40.01
B6: =[1]Лист1!B20 -> гор.напиток | C6: =[1]Лист1!C20 -> ТТК 2021г | D6: =[1]Лист1!D20 -> Чай с сахором | E6: =[1]Лист1!E20 -> 187 | G6: =[1]Лист1!G20 -> 29 | H6: =[1]Лист1!H20 -> 0.02 | I6: =[1]Лист1!I20 -> 0 | J6: =[1]Лист1!J20 -> 7.19
B7: =[1]Лист1!B21 -> хлеб | D7: =[1]Лист1!D21 -> Хлеб ржано-пшеничный | E7: =[1]Лист1!E21 -> 15 | G7: =[1]Лист1!G21 -> 33 | H7: =[1]Лист1!H21 -> 0.75 | I7: =[1]Лист1!I21 -> 0.15 | J7: =[1]Лист1!J21 -> 6.75
B8: =[1]Лист1!B22 -> хлеб | D8: =[1]Лист1!D22 -> Хлеб пшеничный | E8: =[1]Лист1!E22 -> 15 | G8: =[1]Лист1!G22 -> 35 | H8: =[1]Лист1!H22 -> 1.14 | I8: =[1]Лист1!I22 -> 0.12 | J8: =[1]Лист1!J22 -> 7.38
D9: =[1]Лист1!D23 -> Ассорти овощное (помидоры, огурцы свежие с маслом) | E9: =[1]Лист1!E23 -> 65 | G9: =[1]Лист1!G23 -> 55 | H9: =[1]Лист1!H23 -> 0.54 | I9: =[1]Лист1!I23 -> 5.08 | J9: =[1]Лист1!J23 -> 1.71
A12: ИТОГО | E12: =[1]Лист1!E24 -> 502 | F12: =[1]Лист1!F24 -> 62.1 | G12: =[1]Лист1!G24 -> 510 | H12: =[1]Лист1!H24 -> 16.92 | I12: =[1]Лист1!I24 -> 19.15 | J12: =[1]Лист1!J24 -> 67.03
